BEGIN:VCALENDAR
VERSION:2.0
PRODID:-//Chorale CRESCENDO - ECPv6.6.2//NONSGML v1.0//EN
CALSCALE:GREGORIAN
METHOD:PUBLISH
X-WR-CALNAME:Chorale CRESCENDO
X-ORIGINAL-URL:http://chorale-crescendo-fleury45.fr
X-WR-CALDESC:évènements pour Chorale CRESCENDO
REFRESH-INTERVAL;VALUE=DURATION:PT1H
X-Robots-Tag:noindex
X-PUBLISHED-TTL:PT1H
BEGIN:VTIMEZONE
TZID:Europe/Paris
BEGIN:DAYLIGHT
TZOFFSETFROM:+0100
TZOFFSETTO:+0200
TZNAME:CEST
DTSTART:20200329T010000
END:DAYLIGHT
BEGIN:STANDARD
TZOFFSETFROM:+0200
TZOFFSETTO:+0100
TZNAME:CET
DTSTART:20201025T010000
END:STANDARD
BEGIN:DAYLIGHT
TZOFFSETFROM:+0100
TZOFFSETTO:+0200
TZNAME:CEST
DTSTART:20210328T010000
END:DAYLIGHT
BEGIN:STANDARD
TZOFFSETFROM:+0200
TZOFFSETTO:+0100
TZNAME:CET
DTSTART:20211031T010000
END:STANDARD
BEGIN:DAYLIGHT
TZOFFSETFROM:+0100
TZOFFSETTO:+0200
TZNAME:CEST
DTSTART:20220327T010000
END:DAYLIGHT
BEGIN:STANDARD
TZOFFSETFROM:+0200
TZOFFSETTO:+0100
TZNAME:CET
DTSTART:20221030T010000
END:STANDARD
BEGIN:DAYLIGHT
TZOFFSETFROM:+0100
TZOFFSETTO:+0200
TZNAME:CEST
DTSTART:20230326T010000
END:DAYLIGHT
BEGIN:STANDARD
TZOFFSETFROM:+0200
TZOFFSETTO:+0100
TZNAME:CET
DTSTART:20231029T010000
END:STANDARD
BEGIN:DAYLIGHT
TZOFFSETFROM:+0100
TZOFFSETTO:+0200
TZNAME:CEST
DTSTART:20240331T010000
END:DAYLIGHT
BEGIN:STANDARD
TZOFFSETFROM:+0200
TZOFFSETTO:+0100
TZNAME:CET
DTSTART:20241027T010000
END:STANDARD
END:VTIMEZONE
BEGIN:VEVENT
DTSTART;TZID=Europe/Paris:20240905T200000
DTEND;TZID=Europe/Paris:20240905T220000
DTSTAMP:20260419T231912
CREATED:20240901T142534Z
LAST-MODIFIED:20240901T142548Z
UID:2998-1725566400-1725573600@chorale-crescendo-fleury45.fr
SUMMARY:Reprise des répétitions
DESCRIPTION:Reprise des répétitions hebdomadaires
URL:http://chorale-crescendo-fleury45.fr/event/reprise-des-repetitions-3/
LOCATION:Salle de Bcharderies rue des Bicharderies 45400 Fleury les Aubrais\, rue des Bicharderies\, Fleury les Aubrais\, 45400\, France
ORGANIZER;CN="Chorale Crescendo":MAILTO:choralecrescendo45@gmail.com
END:VEVENT
BEGIN:VEVENT
DTSTART;TZID=Europe/Paris:20240620T183000
DTEND;TZID=Europe/Paris:20240620T193000
DTSTAMP:20260419T231912
CREATED:20240310T152418Z
LAST-MODIFIED:20240314T165107Z
UID:2896-1718908200-1718911800@chorale-crescendo-fleury45.fr
SUMMARY:Aubade pour les résidents de la RAPA
DESCRIPTION:Aubade dans le cadre de la fête de la musique\, pour les résidents de la RAPA\, rue de la Paix à Fleury les Aubrais
URL:http://chorale-crescendo-fleury45.fr/event/chants-pour-les-residents-de-la-rapa/
LOCATION:RAPA rue de la Paix – Fleury les Aubrais
ORGANIZER;CN="Chorale Crescendo":MAILTO:choralecrescendo45@gmail.com
END:VEVENT
BEGIN:VEVENT
DTSTART;TZID=Europe/Paris:20240616T163000
DTEND;TZID=Europe/Paris:20240616T180000
DTSTAMP:20260419T231912
CREATED:20240310T151417Z
LAST-MODIFIED:20240314T165018Z
UID:2892-1718555400-1718560800@chorale-crescendo-fleury45.fr
SUMMARY:Concert fin d'année
DESCRIPTION:Concert partagé avec la chorale Popokatepelte de Trainou (dirigée par B. Domejean) \nlien sur le site de la ville \nEntrée libre sous réserve de places disponibles
URL:http://chorale-crescendo-fleury45.fr/event/concert-fin-dannee/
LOCATION:Eglise Saint-André\, place de la République\, Fleury les Aubrais\, 45400\, France
ORGANIZER;CN="Chorale Crescendo":MAILTO:choralecrescendo45@gmail.com
END:VEVENT
BEGIN:VEVENT
DTSTART;TZID=Europe/Paris:20240518T080000
DTEND;TZID=Europe/Paris:20240520T143000
DTSTAMP:20260419T231912
CREATED:20240310T150938Z
LAST-MODIFIED:20240314T164927Z
UID:2887-1716019200-1716215400@chorale-crescendo-fleury45.fr
SUMMARY:Echange avec la chorale de Martel (Lot)
DESCRIPTION:Echange avec la chorale de Martel avec l’ensemble vocal de l’école de musique de Martel \nConcert le dimanche 19 mai à 17h00 à l’église de Baladou
URL:http://chorale-crescendo-fleury45.fr/event/echange-avec-la-chorale-de-martel-lot/
LOCATION:Martel (lot)
END:VEVENT
BEGIN:VEVENT
DTSTART;TZID=Europe/Paris:20240323T100000
DTEND;TZID=Europe/Paris:20240323T120000
DTSTAMP:20260419T231912
CREATED:20240310T145245Z
LAST-MODIFIED:20240314T164615Z
UID:2884-1711188000-1711195200@chorale-crescendo-fleury45.fr
SUMMARY:Chants pour les petits (0-5ans)
DESCRIPTION:Samedi 23 mars : chants pour les petits de 0 à 5 ans : \n\n10h00\, bibliothèque des Jacobins à Fleury les Aubrais\n11h15\, médiathèque Colette Vivier à Saint Jean de la Ruelle\n\nEntrée gratuite dans la limite des places disponibles
URL:http://chorale-crescendo-fleury45.fr/event/chants-pour-les-petits-0-5ans/
END:VEVENT
BEGIN:VEVENT
DTSTART;TZID=Europe/Paris:20230618T160000
DTEND;TZID=Europe/Paris:20230618T183000
DTSTAMP:20260419T231912
CREATED:20221102T095847Z
LAST-MODIFIED:20221102T095847Z
UID:2759-1687104000-1687113000@chorale-crescendo-fleury45.fr
SUMMARY:Concert partagé
DESCRIPTION:Concert partagé entre la chorale Crescendo et la chorale Ami-Voix de Boigny sur Bionne \nEntrée gratuite dans la limite des places disponibles.
URL:http://chorale-crescendo-fleury45.fr/event/concert-partage/
LOCATION:Eglise Saint-André\, place de la République\, Fleury les Aubrais\, 45400\, France
ORGANIZER;CN="Chorale Crescendo":MAILTO:choralecrescendo45@gmail.com
END:VEVENT
BEGIN:VEVENT
DTSTART;TZID=Europe/Paris:20221211T160000
DTEND;TZID=Europe/Paris:20221211T183000
DTSTAMP:20260419T231912
CREATED:20221102T095617Z
LAST-MODIFIED:20221102T095617Z
UID:2754-1670774400-1670783400@chorale-crescendo-fleury45.fr
SUMMARY:Concert avec La Rabolière
DESCRIPTION:Concert partagé entre la chorale La Rabolière (de Jargeau) et la chorale Crescendo (Fleury les Aubrais) à l’église de Jargeau
URL:http://chorale-crescendo-fleury45.fr/event/concert-avec-la-raboliere/
ORGANIZER;CN="Chorale Crescendo":MAILTO:choralecrescendo45@gmail.com
END:VEVENT
BEGIN:VEVENT
DTSTART;TZID=Europe/Paris:20221112T180000
DTEND;TZID=Europe/Paris:20221112T203000
DTSTAMP:20260419T231912
CREATED:20220827T160330Z
LAST-MODIFIED:20221102T095042Z
UID:2605-1668276000-1668285000@chorale-crescendo-fleury45.fr
SUMMARY:Concert
DESCRIPTION:flyer concert novembre \nLa chorale Crescendo reçoit le chœur mixte de l’école de musique du pays de Martel (Lot)
URL:http://chorale-crescendo-fleury45.fr/event/concert-2/
LOCATION:Auditorium de la Passerelle\, boulevard de Lamballe\, 45400 Fleuryles Aubrais\, La Passerelle (Auditorium)\, Fleury les Aubrais\, 45400\, France
ORGANIZER;CN="Chorale Crescendo":MAILTO:choralecrescendo45@gmail.com
END:VEVENT
BEGIN:VEVENT
DTSTART;TZID=Europe/Paris:20220908T200000
DTEND;TZID=Europe/Paris:20220908T220000
DTSTAMP:20260419T231912
CREATED:20220827T155823Z
LAST-MODIFIED:20220827T155823Z
UID:2603-1662667200-1662674400@chorale-crescendo-fleury45.fr
SUMMARY:Reprise des répétitions
DESCRIPTION:
URL:http://chorale-crescendo-fleury45.fr/event/reprise-des-repetitions-2/
ORGANIZER;CN="Chorale Crescendo":MAILTO:choralecrescendo45@gmail.com
END:VEVENT
BEGIN:VEVENT
DTSTART;TZID=Europe/Paris:20220621T173000
DTEND;TZID=Europe/Paris:20220621T190000
DTSTAMP:20260419T231912
CREATED:20211117T165425Z
LAST-MODIFIED:20211117T165425Z
UID:2565-1655832600-1655838000@chorale-crescendo-fleury45.fr
SUMMARY:Fête de la musique
DESCRIPTION:Participation à la fête de la musique à Fleury les Aubrais
URL:http://chorale-crescendo-fleury45.fr/event/fete-de-la-musique/
END:VEVENT
BEGIN:VEVENT
DTSTART;TZID=Europe/Paris:20220522T160000
DTEND;TZID=Europe/Paris:20220522T180000
DTSTAMP:20260419T231912
CREATED:20211207T145456Z
LAST-MODIFIED:20211207T145456Z
UID:2569-1653235200-1653242400@chorale-crescendo-fleury45.fr
SUMMARY:Concert
DESCRIPTION:Concert avec un ensemble musical ami
URL:http://chorale-crescendo-fleury45.fr/event/concert/
LOCATION:Eglise Saint-André\, place de la République\, Fleury les Aubrais\, 45400\, France
ORGANIZER;CN="Chorale Crescendo":MAILTO:choralecrescendo45@gmail.com
END:VEVENT
BEGIN:VEVENT
DTSTART;TZID=Europe/Paris:20210909T200000
DTEND;TZID=Europe/Paris:20210909T220000
DTSTAMP:20260419T231912
CREATED:20210825T145004Z
LAST-MODIFIED:20210825T145004Z
UID:2481-1631217600-1631224800@chorale-crescendo-fleury45.fr
SUMMARY:Reprise des répétitions
DESCRIPTION:
URL:http://chorale-crescendo-fleury45.fr/event/reprise-des-repetitions/
ORGANIZER;CN="Chorale Crescendo":MAILTO:choralecrescendo45@gmail.com
END:VEVENT
BEGIN:VEVENT
DTSTART;TZID=Europe/Paris:20200924T200000
DTEND;TZID=Europe/Paris:20200924T220000
DTSTAMP:20260419T231912
CREATED:20200922T123158Z
LAST-MODIFIED:20200922T123158Z
UID:2428-1600977600-1600984800@chorale-crescendo-fleury45.fr
SUMMARY:Répétitions
DESCRIPTION:Répétitions hebdomadaires tous les jeudis à 20h\, salle des Bicharderies\, rue des Bicharderies\, 45400 Fleury les Aubrais
URL:http://chorale-crescendo-fleury45.fr/event/repetitions/
ORGANIZER;CN="Chorale Crescendo":MAILTO:choralecrescendo45@gmail.com
END:VEVENT
END:VCALENDAR